 
#  CIF produced by WinGX routine CIF_UPDATE
#  Created on 2001-05-07 at 11:02:26
#  Using CIFtbx version 2.6.2 16 Jun 1998
 
#  Dictionary name : cif_core.dic
#  Dictionary vers : 2.2
#  Request file    : c:\wingx\files\archive.dat
#  CIF files read  : ljf038 dreduc struct sortav absorb
 
 
data_ljf038
 
_audit_creation_date            2001-05-07T11:02:26-00:00
_audit_creation_method         'WinGX routine CIF_UPDATE'
_audit_conform_dict_name        cif_core.dic
_audit_conform_dict_version     2.2
_audit_conform_dict_location    ftp://ftp.iucr.org/pub/cif_core.dic
_publ_requested_category        FM
 
#----------------------------------------------------------------------------#
#                   CHEMICAL INFORMATION                                     #
#----------------------------------------------------------------------------#
 
_chemical_name_systematic
;
 ?
;
_chemical_formula_moiety                'C12 H30 Cl2 P2 Pd'
_chemical_formula_structural            'C12 H30 Cl2 P2 Pd'
_chemical_formula_sum                   'C12 H30 Cl2 P2 Pd'
_chemical_formula_weight                413.6
_chemical_compound_source               'synthesis as described'
 
#----------------------------------------------------------------------------#
#                   UNIT CELL INFORMATION                                    #
#----------------------------------------------------------------------------#
 
_symmetry_cell_setting                  monoclinic
_symmetry_space_group_name_H-M          'P 21/n'
_symmetry_space_group_name_Hall         '-P 2yn'
_symmetry_Int_Tables_number             14
loop_
    _symmetry_equiv_pos_as_xyz
'x, y, z'
'-x+1/2, y+1/2, -z+1/2'
'-x, -y, -z'
'x-1/2, -y-1/2, z-1/2'
 
_cell_length_a                          7.1810(2)
_cell_length_b                          11.5692(3)
_cell_length_c                          10.9416(3)
_cell_angle_alpha                       90
_cell_angle_beta                        90.626(1)
_cell_angle_gamma                       90
_cell_volume                            908.96(4)
_cell_formula_units_Z                   2
_cell_measurement_temperature           150
_cell_measurement_reflns_used           2771
_cell_measurement_theta_min             1
_cell_measurement_theta_max             30.034
_cell_measurement_wavelength            0.71073
 
#----------------------------------------------------------------------------#
#                   CRYSTAL INFORMATION                                      #
#----------------------------------------------------------------------------#
 
_exptl_crystal_description              prism
_exptl_crystal_colour                   yellow
_exptl_crystal_size_max                 0.55
_exptl_crystal_size_mid                 0.35
_exptl_crystal_size_min                 0.25
_exptl_crystal_density_diffrn           1.511
_exptl_crystal_density_method           'not measured'
_exptl_crystal_F_000                    424
_exptl_special_details
;
 ?
;
 
#----------------------------------------------------------------------------#
#                   ABSORPTION CORRECTION                                    #
#----------------------------------------------------------------------------#
 
_exptl_absorpt_coefficient_mu           1.473
_exptl_absorpt_correction_type          multi-scan
_exptl_absorpt_process_details
;
 R.H. Blessing, Acta Cryst. (1995), A51, 33-38
;
_exptl_absorpt_correction_T_min         0.602
_exptl_absorpt_correction_T_max         0.815
 
#----------------------------------------------------------------------------#
#                   DATA COLLECTION                                          #
#----------------------------------------------------------------------------#
 
_diffrn_source                          'Enraf Nonius FR590'
_diffrn_ambient_temperature             150
_diffrn_radiation_wavelength            0.71073
_diffrn_radiation_type                  MoK\a
_diffrn_radiation_monochromator         graphite
_diffrn_radiation_probe                 x-ray
_diffrn_detector                        'CCD plate'
_diffrn_orient_matrix_type              'by Nonius Collect from scalepack cell'
_diffrn_orient_matrix_ub_11             -0.130403
_diffrn_orient_matrix_ub_12             0.99505E-2
_diffrn_orient_matrix_ub_13             0.293722E-1
_diffrn_orient_matrix_ub_21             -0.61214E-2
_diffrn_orient_matrix_ub_22             0.776898E-1
_diffrn_orient_matrix_ub_23             -0.399038E-1
_diffrn_orient_matrix_ub_31             -0.48501E-1
_diffrn_orient_matrix_ub_32             -0.365586E-1
_diffrn_orient_matrix_ub_33             -0.768041E-1
_diffrn_measurement_device              '95mm CCD camera on κ-goniostat'
_diffrn_measurement_device_type         KappaCCD
_diffrn_measurement_method              'CCD rotation images, thick slices'
_diffrn_reflns_av_R_equivalents         0.0582
_diffrn_reflns_av_unetI/netI            0.0268
_diffrn_reflns_number                   2661
_diffrn_reflns_limit_h_min              -10
_diffrn_reflns_limit_h_max              10
_diffrn_reflns_limit_k_min              -16
_diffrn_reflns_limit_k_max              15
_diffrn_reflns_limit_l_min              -15
_diffrn_reflns_limit_l_max              15
_diffrn_reflns_theta_min                2.56
_diffrn_reflns_theta_max                30.15
_diffrn_reflns_theta_full               30.15
_diffrn_measured_fraction_theta_full
                                        0.986
_diffrn_measured_fraction_theta_max
                                        0.986
_reflns_number_total                    2661
_reflns_number_gt                       2484
_reflns_threshold_expression            >2sigma(I)
_diffrn_reflns_reduction_process
;
 Scaled and merged with SORTAV
 R.H. Blessing, (1987) Cryst. Rev. 1, 3-58
 R.H. Blessing, (1989) J. Appl. Cryst. 22, 396-397
;
 
#----------------------------------------------------------------------------#
#                   COMPUTER PROGRAMS USED                                   #
#----------------------------------------------------------------------------#
 
_computing_data_collection              'Collect (Nonius BV, 1997-2000)'
_computing_cell_refinement
                                       'HKL Scalepack (Otwinowski & Minor 1997)'
_computing_data_reduction
                             'HKL Denzo and Scalepack (Otwinowski & Minor 1997)'
_computing_structure_solution           'SHELXS-97 (Sheldrick, 1997)'
_computing_structure_refinement         'SHELXL-97 (Sheldrick, 1997)'
_computing_molecular_graphics           'Ortep-3 for Windows (Farrugia, 1997)'
_computing_publication_material
                                   'WinGX publication routines (Farrugia, 1999)'
 
#----------------------------------------------------------------------------#
#                   REFINEMENT INFORMATION                                   #
#----------------------------------------------------------------------------#
 
_refine_special_details
;
 Refinement of F² against ALL reflections.  The weighted R-factor wR and
 goodness of fit S are based on F², conventional R-factors R are based
 on F, with F set to zero for negative F². The threshold expression of
 F² > 2sigma(F²) is used only for calculating R-factors(gt) etc. and is
 not relevant to the choice of reflections for refinement.  R-factors based
 on F² are statistically about twice as large as those based on F, and R-
 factors based on ALL data will be even larger.
;
_refine_ls_structure_factor_coef        Fsqd
_refine_ls_matrix_type                  full
_refine_ls_weighting_scheme             calc
_refine_ls_weighting_details
         'calc w=1/[σ²(Fo²)+(0.0497P)²+0.3826P] where P=(Fo²+2Fc²)/3'
_atom_sites_solution_primary            direct
_atom_sites_solution_secondary          difmap
_atom_sites_solution_hydrogens          geom
_refine_ls_hydrogen_treatment           mixed
_refine_ls_extinction_method            SHELXL
_refine_ls_extinction_expression
                                    Fc^*^=kFc[1+0.001xFc²λ³/sin(2θ)]^-1/4^
_refine_ls_extinction_coef              0.0084(19)
_refine_ls_number_reflns                2661
_refine_ls_number_parameters            80
_refine_ls_number_restraints            0
_refine_ls_R_factor_all                 0.0329
_refine_ls_R_factor_gt                  0.0307
_refine_ls_wR_factor_ref                0.081
_refine_ls_wR_factor_gt                 0.079
_refine_ls_goodness_of_fit_ref          1.12
_refine_ls_restrained_S_all             1.12
_refine_ls_shift/su_max                 0.002
_refine_ls_shift/su_mean                0
_refine_diff_density_max                0.928
_refine_diff_density_min                -1.122
_refine_diff_density_rms                0.128
 
#----------------------------------------------------------------------------#
#                   ATOMIC TYPES, COORDINATES AND THERMAL PARAMETERS         #
#----------------------------------------------------------------------------#
 
loop_
    _atom_type_symbol
    _atom_type_description
    _atom_type_scat_dispersion_real
    _atom_type_scat_dispersion_imag
    _atom_type_scat_source
Pd Pd -0.9988 1.0072 'International Tables Vol C Tables 4.2.6.8 and 6.1.1.4'
Cl Cl 0.1484 0.1585 'International Tables Vol C Tables 4.2.6.8 and 6.1.1.4'
P P 0.1023 0.0942 'International Tables Vol C Tables 4.2.6.8 and 6.1.1.4'
C C 0.0033 0.0016 'International Tables Vol C Tables 4.2.6.8 and 6.1.1.4'
H H 0 0 'International Tables Vol C Tables 4.2.6.8 and 6.1.1.4'
 
loop_
    _atom_site_label
    _atom_site_type_symbol
    _atom_site_fract_x
    _atom_site_fract_y
    _atom_site_fract_z
    _atom_site_U_iso_or_equiv
    _atom_site_adp_type
    _atom_site_occupancy
    _atom_site_symmetry_multiplicity
    _atom_site_calc_flag
    _atom_site_refinement_flags
    _atom_site_disorder_assembly
    _atom_site_disorder_group
Pd1 Pd 1 0 1 0.01718(9) Uani 1 2 d S . .
Cl1 Cl 1.06932(7) 0.04944(4) 1.19898(4) 0.03003(12) Uani 1 1 d . . .
P1 P 0.88484(6) -0.17243(4) 1.07661(4) 0.02040(11) Uani 1 1 d . . .
C11 C 1.0775(3) -0.25837(16) 1.13806(17) 0.0287(4) Uani 1 1 d . . .
H11A H 1.141 -0.2148 1.2018 0.034 Uiso 1 1 calc R . .
H11B H 1.0287 -0.3284 1.1744 0.034 Uiso 1 1 calc R . .
C12 C 1.2160(3) -0.2903(2) 1.0393(2) 0.0356(5) Uani 1 1 d . . .
H12A H 1.3151 -0.3354 1.0747 0.053 Uiso 1 1 calc R . .
H12B H 1.2663 -0.2211 1.0043 0.053 Uiso 1 1 calc R . .
H12C H 1.154 -0.3345 0.9768 0.053 Uiso 1 1 calc R . .
C21 C 0.7641(3) -0.26592(16) 0.96717(18) 0.0263(4) Uani 1 1 d . . .
H21A H 0.6451 -0.2308 0.9468 0.032 Uiso 1 1 calc R . .
H21B H 0.8364 -0.2685 0.8929 0.032 Uiso 1 1 calc R . .
C22 C 0.7286(3) -0.39012(16) 1.0089(2) 0.0332(4) Uani 1 1 d . . .
H22A H 0.6646 -0.4316 0.9451 0.05 Uiso 1 1 calc R . .
H22B H 0.6535 -0.3894 1.0809 0.05 Uiso 1 1 calc R . .
H22C H 0.8452 -0.4273 1.0267 0.05 Uiso 1 1 calc R . .
C31 C 0.7266(3) -0.15542(17) 1.20467(19) 0.0334(4) Uani 1 1 d . . .
H31A H 0.6719 -0.2299 1.2236 0.04 Uiso 1 1 calc R . .
H31B H 0.7972 -0.1301 1.2759 0.04 Uiso 1 1 calc R . .
C32 C 0.5714(3) -0.0691(2) 1.1790(3) 0.0466(6) Uani 1 1 d . . .
H32A H 0.4927 -0.0635 1.2491 0.07 Uiso 1 1 calc R . .
H32B H 0.4992 -0.0945 1.1097 0.07 Uiso 1 1 calc R . .
H32C H 0.6244 0.0053 1.162 0.07 Uiso 1 1 calc R . .
 
loop_
    _atom_site_aniso_label
    _atom_site_aniso_U_11
    _atom_site_aniso_U_22
    _atom_site_aniso_U_33
    _atom_site_aniso_U_23
    _atom_site_aniso_U_13
    _atom_site_aniso_U_12
Pd1 0.02159(12) 0.01428(12) 0.01569(12) -0.00002(4) 0.00059(7) -0.00011(5)
Cl1 0.0453(3) 0.0267(2) 0.01804(19) -0.00110(14) -0.00202(16) -0.00835(17)
P1 0.0268(2) 0.0160(2) 0.0184(2) 0.00051(13) 0.00180(15) -0.00187(15)
C11 0.0394(10) 0.0217(8) 0.0249(8) 0.0054(6) -0.0047(7) 0.0014(7)
C12 0.0333(10) 0.0296(10) 0.0439(11) 0.0036(8) -0.0005(8) 0.0076(8)
C21 0.0326(9) 0.0208(8) 0.0256(8) -0.0023(6) -0.0014(7) -0.0060(7)
C22 0.0401(10) 0.0208(8) 0.0387(10) -0.0021(7) 0.0022(8) -0.0101(7)
C31 0.0432(11) 0.0269(9) 0.0303(9) -0.0039(7) 0.0148(8) -0.0091(8)
C32 0.0375(11) 0.0436(12) 0.0592(15) -0.0138(11) 0.0174(10) -0.0018(9)
 
 
#----------------------------------------------------------------------------#
#                   MOLECULAR GEOMETRY                                       #
#----------------------------------------------------------------------------#
 
_geom_special_details
;
 All esds (except the esd in the dihedral angle between two l.s. planes)
 are estimated using the full covariance matrix.  The cell esds are taken
 into account individually in the estimation of esds in distances, angles
 and torsion angles; correlations between esds in cell parameters are only
 used when they are defined by crystal symmetry.  An approximate (isotropic)
 treatment of cell esds is used for estimating esds involving l.s. planes.
;
loop_
    _geom_bond_atom_site_label_1
    _geom_bond_atom_site_label_2
    _geom_bond_distance
    _geom_bond_site_symmetry_2
    _geom_bond_publ_flag
Pd1 Cl1 2.3003(4) . ?
Pd1 Cl1 2.3003(4) 3_757 ?
Pd1 P1 2.3197(4) 3_757 ?
Pd1 P1 2.3197(4) . ?
P1 C31 1.8242(19) . ?
P1 C21 1.8257(19) . ?
P1 C11 1.8259(19) . ?
C11 C12 1.522(3) . ?
C11 H11A 0.97 . ?
C11 H11B 0.97 . ?
C12 H12A 0.96 . ?
C12 H12B 0.96 . ?
C12 H12C 0.96 . ?
C21 C22 1.530(3) . ?
C21 H21A 0.97 . ?
C21 H21B 0.97 . ?
C22 H22A 0.96 . ?
C22 H22B 0.96 . ?
C22 H22C 0.96 . ?
C31 C32 1.520(3) . ?
C31 H31A 0.97 . ?
C31 H31B 0.97 . ?
C32 H32A 0.96 . ?
C32 H32B 0.96 . ?
C32 H32C 0.96 . ?
 
loop_
    _geom_angle_atom_site_label_1
    _geom_angle_atom_site_label_2
    _geom_angle_atom_site_label_3
    _geom_angle
    _geom_angle_site_symmetry_1
    _geom_angle_site_symmetry_3
    _geom_angle_publ_flag
Cl1 Pd1 Cl1 180 . 3_757 ?
Cl1 Pd1 P1 93.087(15) . 3_757 ?
Cl1 Pd1 P1 86.913(15) 3_757 3_757 ?
Cl1 Pd1 P1 86.913(15) . . ?
Cl1 Pd1 P1 93.087(15) 3_757 . ?
P1 Pd1 P1 180 3_757 . ?
C31 P1 C21 105.80(9) . . ?
C31 P1 C11 104.57(10) . . ?
C21 P1 C11 105.75(9) . . ?
C31 P1 Pd1 114.35(7) . . ?
C21 P1 Pd1 116.18(7) . . ?
C11 P1 Pd1 109.25(6) . . ?
C12 C11 P1 111.67(13) . . ?
C12 C11 H11A 109.3 . . ?
P1 C11 H11A 109.3 . . ?
C12 C11 H11B 109.3 . . ?
P1 C11 H11B 109.3 . . ?
H11A C11 H11B 107.9 . . ?
C11 C12 H12A 109.5 . . ?
C11 C12 H12B 109.5 . . ?
H12A C12 H12B 109.5 . . ?
C11 C12 H12C 109.5 . . ?
H12A C12 H12C 109.5 . . ?
H12B C12 H12C 109.5 . . ?
C22 C21 P1 116.14(14) . . ?
C22 C21 H21A 108.3 . . ?
P1 C21 H21A 108.3 . . ?
C22 C21 H21B 108.3 . . ?
P1 C21 H21B 108.3 . . ?
H21A C21 H21B 107.4 . . ?
C21 C22 H22A 109.5 . . ?
C21 C22 H22B 109.5 . . ?
H22A C22 H22B 109.5 . . ?
C21 C22 H22C 109.5 . . ?
H22A C22 H22C 109.5 . . ?
H22B C22 H22C 109.5 . . ?
C32 C31 P1 112.98(16) . . ?
C32 C31 H31A 109 . . ?
P1 C31 H31A 109 . . ?
C32 C31 H31B 109 . . ?
P1 C31 H31B 109 . . ?
H31A C31 H31B 107.8 . . ?
C31 C32 H32A 109.5 . . ?
C31 C32 H32B 109.5 . . ?
H32A C32 H32B 109.5 . . ?
C31 C32 H32C 109.5 . . ?
H32A C32 H32C 109.5 . . ?
H32B C32 H32C 109.5 . . ?
 
